Package: SpatialOmicsOverlay Version: 1.4.0 Command: /Library/Frameworks/R.framework/Resources/bin/R CMD check --install=check:SpatialOmicsOverlay.install-out.txt --library=/Library/Frameworks/R.framework/Resources/library --no-vignettes --timings SpatialOmicsOverlay_1.4.0.tar.gz StartedAt: 2024-10-17 13:35:32 -0400 (Thu, 17 Oct 2024) EndedAt: 2024-10-17 13:54:40 -0400 (Thu, 17 Oct 2024) EllapsedTime: 1148.2 seconds RetCode: 0 Status: OK CheckDir: SpatialOmicsOverlay.Rcheck Warnings: 0