Package: SpatialOmicsOverlay Version: 1.4.0 Command: /Library/Frameworks/R.framework/Resources/bin/R CMD build --keep-empty-dirs --no-resave-data SpatialOmicsOverlay StartedAt: 2024-10-16 23:36:01 -0400 (Wed, 16 Oct 2024) EndedAt: 2024-10-16 23:56:58 -0400 (Wed, 16 Oct 2024) EllapsedTime: 1257.5 seconds RetCode: 0 Status: OK PackageFile: SpatialOmicsOverlay_1.4.0.tar.gz PackageFileSize: 4.497 MiB