Package: SpatialOmicsOverlay Version: 1.4.0 Command: /Library/Frameworks/R.framework/Resources/bin/R CMD INSTALL SpatialOmicsOverlay StartedAt: 2024-06-09 16:44:25 -0400 (Sun, 09 Jun 2024) EndedAt: 2024-06-09 16:45:15 -0400 (Sun, 09 Jun 2024) EllapsedTime: 49.6 seconds RetCode: 0 Status: OK