Package: SpatialOmicsOverlay Version: 1.4.0 Command: rm -rf SpatialOmicsOverlay.buildbin-libdir && mkdir SpatialOmicsOverlay.buildbin-libdir && /Users/biocbuild/BBS/utils/build-universal.sh SpatialOmicsOverlay_1.4.0.tar.gz /Library/Frameworks/R.framework/Resources/bin/R SpatialOmicsOverlay.buildbin-libdir StartedAt: 2024-06-11 13:22:04 -0400 (Tue, 11 Jun 2024) EndedAt: 2024-06-11 13:23:12 -0400 (Tue, 11 Jun 2024) EllapsedTime: 67.5 seconds RetCode: 0 Status: OK PackageFile: SpatialOmicsOverlay_1.4.0.tgz PackageFileSize: 4.678 MiB