Package: SpatialOmicsOverlay Version: 1.4.0 Command: /Library/Frameworks/R.framework/Resources/bin/R CMD INSTALL SpatialOmicsOverlay StartedAt: 2024-10-16 17:29:33 -0400 (Wed, 16 Oct 2024) EndedAt: 2024-10-16 17:30:12 -0400 (Wed, 16 Oct 2024) EllapsedTime: 38.8 seconds RetCode: 0 Status: OK