Package: SpatialOmicsOverlay Version: 1.4.0 Command: rm -rf SpatialOmicsOverlay.buildbin-libdir && mkdir SpatialOmicsOverlay.buildbin-libdir && /Users/biocbuild/BBS/utils/build-universal.sh SpatialOmicsOverlay_1.4.0.tar.gz /Library/Frameworks/R.framework/Resources/bin/R SpatialOmicsOverlay.buildbin-libdir StartedAt: 2024-10-15 20:26:16 -0400 (Tue, 15 Oct 2024) EndedAt: 2024-10-15 20:27:06 -0400 (Tue, 15 Oct 2024) EllapsedTime: 49.6 seconds RetCode: 0 Status: OK PackageFile: SpatialOmicsOverlay_1.4.0.tgz PackageFileSize: 4.677 MiB