Package: SpatialFeatureExperiment Version: 1.6.1 Command: chmod a+r SpatialFeatureExperiment -R && E:\biocbuild\bbs-3.19-bioc\R\bin\R.exe CMD build --keep-empty-dirs --no-resave-data SpatialFeatureExperiment StartedAt: 2024-10-16 22:06:05 -0400 (Wed, 16 Oct 2024) EndedAt: 2024-10-16 22:09:14 -0400 (Wed, 16 Oct 2024) EllapsedTime: 189.4 seconds RetCode: 0 Status: OK PackageFile: SpatialFeatureExperiment_1.6.1.tar.gz PackageFileSize: 1.558 MiB