Package: SpatialFeatureExperiment Version: 1.6.1 Command: rm -rf SpatialFeatureExperiment.buildbin-libdir && mkdir SpatialFeatureExperiment.buildbin-libdir && E:\biocbuild\bbs-3.19-bioc\R\bin\R.exe CMD INSTALL --build --library=SpatialFeatureExperiment.buildbin-libdir SpatialFeatureExperiment_1.6.1.tar.gz StartedAt: 2024-10-17 08:41:54 -0400 (Thu, 17 Oct 2024) EndedAt: 2024-10-17 08:49:38 -0400 (Thu, 17 Oct 2024) EllapsedTime: 463.5 seconds RetCode: 0 Status: OK PackageFile: SpatialFeatureExperiment_1.6.1.zip PackageFileSize: 2.471 MiB