Package: SpatialFeatureExperiment Version: 1.6.1 Command: F:\biocbuild\bbs-3.19-bioc\R\bin\R.exe CMD check --no-multiarch --install=check:SpatialFeatureExperiment.install-out.txt --library=F:\biocbuild\bbs-3.19-bioc\R\library --no-vignettes --timings SpatialFeatureExperiment_1.6.1.tar.gz StartedAt: 2024-06-27 06:26:21 -0400 (Thu, 27 Jun 2024) EndedAt: 2024-06-27 06:50:44 -0400 (Thu, 27 Jun 2024) EllapsedTime: 1462.9 seconds RetCode: 1 Status: ERROR CheckDir: SpatialFeatureExperiment.Rcheck Warnings: NA