Package: SpatialFeatureExperiment Version: 1.6.1 Command: /home/biocbuild/bbs-3.19-bioc/R/bin/R CMD check --install=check:SpatialFeatureExperiment.install-out.txt --library=/home/biocbuild/bbs-3.19-bioc/R/site-library --timings SpatialFeatureExperiment_1.6.1.tar.gz StartedAt: 2024-10-17 05:23:50 -0400 (Thu, 17 Oct 2024) EndedAt: 2024-10-17 05:44:07 -0400 (Thu, 17 Oct 2024) EllapsedTime: 1216.5 seconds RetCode: 1 Status: ERROR CheckDir: SpatialFeatureExperiment.Rcheck Warnings: NA