Package: SpatialFeatureExperiment Version: 1.6.1 Command: /home/biocbuild/bbs-3.19-bioc/R/bin/R CMD build --keep-empty-dirs --no-resave-data SpatialFeatureExperiment StartedAt: 2024-10-16 20:57:33 -0400 (Wed, 16 Oct 2024) EndedAt: 2024-10-16 20:59:39 -0400 (Wed, 16 Oct 2024) EllapsedTime: 126.2 seconds RetCode: 0 Status: OK PackageFile: SpatialFeatureExperiment_1.6.1.tar.gz PackageFileSize: 1.781 MiB