Package: SpatialFeatureExperiment Version: 1.6.1 Command: rm -rf SpatialFeatureExperiment.buildbin-libdir && mkdir SpatialFeatureExperiment.buildbin-libdir && /Users/biocbuild/BBS/utils/build-universal.sh SpatialFeatureExperiment_1.6.1.tar.gz /Library/Frameworks/R.framework/Resources/bin/R SpatialFeatureExperiment.buildbin-libdir StartedAt: 2024-08-15 15:28:11 -0400 (Thu, 15 Aug 2024) EndedAt: 2024-08-15 15:30:35 -0400 (Thu, 15 Aug 2024) EllapsedTime: 143.6 seconds RetCode: 0 Status: OK PackageFile: SpatialFeatureExperiment_1.6.1.tgz PackageFileSize: 2.673 MiB