Package: SpatialFeatureExperiment Version: 1.6.0 Command: /home/biocbuild/R/R-beta-2024-04-15_r86425/bin/R CMD build --keep-empty-dirs --no-resave-data SpatialFeatureExperiment StartedAt: 2024-05-09 03:47:15 -0000 (Thu, 09 May 2024) EndedAt: 2024-05-09 03:50:00 -0000 (Thu, 09 May 2024) EllapsedTime: 165.2 seconds RetCode: 0 Status: OK PackageFile: SpatialFeatureExperiment_1.6.0.tar.gz PackageFileSize: 1.782 MiB