Package: SpatialFeatureExperiment Version: 1.6.1 Command: /Library/Frameworks/R.framework/Resources/bin/R CMD check --install=check:SpatialFeatureExperiment.install-out.txt --library=/Library/Frameworks/R.framework/Resources/library --no-vignettes --timings SpatialFeatureExperiment_1.6.1.tar.gz StartedAt: 2024-10-18 13:19:58 -0400 (Fri, 18 Oct 2024) EndedAt: 2024-10-18 13:46:11 -0400 (Fri, 18 Oct 2024) EllapsedTime: 1573.1 seconds RetCode: 0 Status: OK CheckDir: SpatialFeatureExperiment.Rcheck Warnings: 0