############################################################################## ############################################################################## ### ### Running command: ### ### /Library/Frameworks/R.framework/Resources/bin/R CMD check --install=check:SpatialFeatureExperiment.install-out.txt --library=/Library/Frameworks/R.framework/Resources/library --no-vignettes --timings SpatialFeatureExperiment_1.6.1.tar.gz ### ############################################################################## ############################################################################## * using log directory ‘/Users/biocbuild/bbs-3.19-bioc/meat/SpatialFeatureExperiment.Rcheck’ * using R version 4.4.1 (2024-06-14) * using platform: aarch64-apple-darwin20 * R was compiled by Apple clang version 14.0.0 (clang-1400.0.29.202) GNU Fortran (GCC) 12.2.0 * running under: macOS Ventura 13.6.6 * using session charset: UTF-8 * using option ‘--no-vignettes’ * checking for file ‘SpatialFeatureExperiment/DESCRIPTION’ ... OK * checking extension type ... Package * this is package ‘SpatialFeatureExperiment’ version ‘1.6.1’ * package encoding: UTF-8 * checking package namespace information ... OK * checking package dependencies ... OK * checking if this is a source package ... OK * checking if there is a namespace ... OK * checking for hidden files and directories ... OK * checking for portable file names ... OK * checking for sufficient/correct file permissions ... OK * checking whether package ‘SpatialFeatureExperiment’ can be installed ... OK * checking installed package size ... OK * checking package directory ... OK * checking ‘build’ directory ... OK * checking DESCRIPTION meta-information ... OK * checking top-level files ... OK * checking for left-over files ... OK * checking index information ... OK * checking package subdirectories ... OK * checking code files for non-ASCII characters ... OK * checking R files for syntax errors ... OK * checking whether the package can be loaded ... OK * checking whether the package can be loaded with stated dependencies ... OK * checking whether the package can be unloaded cleanly ... OK * checking whether the namespace can be loaded with stated dependencies ... OK * checking whether the namespace can be unloaded cleanly ... OK * checking dependencies in R code ... NOTE Unexported objects imported by ':::' calls: ‘S4Vectors:::disableValidity’ ‘SpatialExperiment:::.get_img_idx’ ‘spdep:::minmax.listw’ See the note in ?`:::` about the use of this operator. * checking S3 generic/method consistency ... OK * checking replacement functions ... OK * checking foreign function calls ... OK * checking R code for possible problems ... NOTE .no_raw_bytes: no visible binding for global variable ‘xoa_version’ .no_raw_bytes: no visible binding for global variable ‘major_version’ .no_raw_bytes: no visible binding for global variable ‘minor_version’ .no_raw_bytes: no visible binding for global variable ‘instrument_version’ addTxTech: no visible binding for global variable ‘gene_col’ addTxTech: no visible binding for global variable ‘cell_col’ addTxTech: no visible binding for global variable ‘fn’ formatTxTech: no visible binding for global variable ‘gene_col’ formatTxTech: no visible binding for global variable ‘cell_col’ formatTxTech: no visible binding for global variable ‘fn’ readXenium: no visible binding for global variable ‘xoa_version’ readXenium: no visible binding for global variable ‘major_version’ readXenium: no visible binding for global variable ‘minor_version’ readXenium: no visible binding for global variable ‘instrument_version’ Undefined global functions or variables: cell_col fn gene_col instrument_version major_version minor_version xoa_version * checking Rd files ... OK * checking Rd metadata ... OK * checking Rd cross-references ... OK * checking for missing documentation entries ... OK * checking for code/documentation mismatches ... OK * checking Rd \usage sections ... OK * checking Rd contents ... OK * checking for unstated dependencies in examples ... OK * checking contents of ‘data’ directory ... OK * checking data for non-ASCII characters ... OK * checking data for ASCII and uncompressed saves ... OK * checking R/sysdata.rda ... OK * checking files in ‘vignettes’ ... OK * checking examples ... OK Examples with CPU (user + system) or elapsed time > 5s user system elapsed formatTxSpots 22.279 1.340 26.163 Img-set-SpatialExperiment-method 19.873 1.715 22.037 rowGeometries 11.660 0.719 14.130 spatialGraphs 11.626 0.391 15.147 readXenium 10.007 0.460 11.313 cbind-SpatialFeatureExperiment-method 9.353 0.365 11.480 removeEmptySpace 9.226 0.428 10.812 findVisiumGraph 9.002 0.373 11.297 dimGeometries 8.202 0.366 10.564 findSpatialNeighbors-SpatialFeatureExperiment-method 7.941 0.365 10.172 SFE-transform 6.636 0.291 7.785 crop 6.311 0.202 7.384 updateObject 6.204 0.185 7.280 readVizgen 5.300 0.252 6.074 annotOp 5.191 0.191 6.327 formatTxTech 4.575 0.482 6.047 annotSummary 4.724 0.186 5.816 getPixelSize 4.486 0.314 5.128 colFeatureData 4.255 0.252 5.383 getParams 4.224 0.227 5.330 readCosMX 4.098 0.228 5.477 * checking for unstated dependencies in ‘tests’ ... OK * checking tests ... Running ‘testthat.R’ OK * checking for unstated dependencies in vignettes ... OK * checking package vignettes ... OK * checking running R code from vignettes ... SKIPPED * checking re-building of vignette outputs ... SKIPPED * checking PDF version of manual ... OK * DONE Status: 2 NOTEs See ‘/Users/biocbuild/bbs-3.19-bioc/meat/SpatialFeatureExperiment.Rcheck/00check.log’ for details.