Package: SpatialFeatureExperiment Version: 1.6.1 Command: /Library/Frameworks/R.framework/Resources/bin/R CMD build --keep-empty-dirs --no-resave-data SpatialFeatureExperiment StartedAt: 2024-10-17 09:49:18 -0400 (Thu, 17 Oct 2024) EndedAt: 2024-10-17 09:52:07 -0400 (Thu, 17 Oct 2024) EllapsedTime: 169.0 seconds RetCode: 0 Status: OK PackageFile: SpatialFeatureExperiment_1.6.1.tar.gz PackageFileSize: 1.783 MiB