Package: SpatialFeatureExperiment Version: 1.6.1 Command: rm -rf SpatialFeatureExperiment.buildbin-libdir && mkdir SpatialFeatureExperiment.buildbin-libdir && /Users/biocbuild/BBS/utils/build-universal.sh SpatialFeatureExperiment_1.6.1.tar.gz /Library/Frameworks/R.framework/Resources/bin/R SpatialFeatureExperiment.buildbin-libdir StartedAt: 2024-10-15 20:26:12 -0400 (Tue, 15 Oct 2024) EndedAt: 2024-10-15 20:27:28 -0400 (Tue, 15 Oct 2024) EllapsedTime: 76.2 seconds RetCode: 0 Status: OK PackageFile: SpatialFeatureExperiment_1.6.1.tgz PackageFileSize: 2.673 MiB