Package: SpatialFeatureExperiment Version: 1.6.1 Maintainer: Lambda Moses MaintainerEmail: dl3764 at columbia.edu git_url: https://git.bioconductor.org/packages/SpatialFeatureExperiment git_branch: RELEASE_3_19 git_last_commit: b36d63b git_last_commit_date: 2024-08-22 14:05:53 -0400 (Thu, 22 Aug 2024)