Package: SpatialExperiment Version: 1.14.0 Command: rm -rf SpatialExperiment.buildbin-libdir && mkdir SpatialExperiment.buildbin-libdir && E:\biocbuild\bbs-3.19-bioc\R\bin\R.exe CMD INSTALL --build --library=SpatialExperiment.buildbin-libdir SpatialExperiment_1.14.0.tar.gz StartedAt: 2024-10-17 08:41:53 -0400 (Thu, 17 Oct 2024) EndedAt: 2024-10-17 08:43:32 -0400 (Thu, 17 Oct 2024) EllapsedTime: 99.2 seconds RetCode: 0 Status: OK PackageFile: SpatialExperiment_1.14.0.zip PackageFileSize: 5.557 MiB