Package: SpatialExperiment Version: 1.14.0 Command: F:\biocbuild\bbs-3.19-bioc\R\bin\R.exe CMD INSTALL SpatialExperiment StartedAt: 2024-06-26 15:56:16 -0400 (Wed, 26 Jun 2024) EndedAt: 2024-06-26 15:56:54 -0400 (Wed, 26 Jun 2024) EllapsedTime: 38.3 seconds RetCode: 0 Status: OK