Package: SpatialExperiment Version: 1.14.0 Command: chmod a+r SpatialExperiment -R && F:\biocbuild\bbs-3.19-bioc\R\bin\R.exe CMD build --keep-empty-dirs --no-resave-data SpatialExperiment StartedAt: 2024-06-26 22:06:03 -0400 (Wed, 26 Jun 2024) EndedAt: 2024-06-26 22:07:35 -0400 (Wed, 26 Jun 2024) EllapsedTime: 92.3 seconds RetCode: 0 Status: OK PackageFile: SpatialExperiment_1.14.0.tar.gz PackageFileSize: 5.239 MiB