Package: SpatialExperiment Version: 1.14.0 Command: rm -rf SpatialExperiment.buildbin-libdir && mkdir SpatialExperiment.buildbin-libdir && F:\biocbuild\bbs-3.19-bioc\R\bin\R.exe CMD INSTALL --build --library=SpatialExperiment.buildbin-libdir SpatialExperiment_1.14.0.tar.gz StartedAt: 2024-06-27 08:58:17 -0400 (Thu, 27 Jun 2024) EndedAt: 2024-06-27 08:58:59 -0400 (Thu, 27 Jun 2024) EllapsedTime: 41.9 seconds RetCode: 0 Status: OK PackageFile: SpatialExperiment_1.14.0.zip PackageFileSize: 5.559 MiB