Package: SpatialExperiment Version: 1.14.0 Command: /Library/Frameworks/R.framework/Resources/bin/R CMD check --install=check:SpatialExperiment.install-out.txt --library=/Library/Frameworks/R.framework/Resources/library --no-vignettes --timings SpatialExperiment_1.14.0.tar.gz StartedAt: 2024-10-17 13:34:35 -0400 (Thu, 17 Oct 2024) EndedAt: 2024-10-17 13:44:20 -0400 (Thu, 17 Oct 2024) EllapsedTime: 585.6 seconds RetCode: 0 Status: OK CheckDir: SpatialExperiment.Rcheck Warnings: 0