Package: SpatialExperiment Version: 1.14.0 Command: /Library/Frameworks/R.framework/Resources/bin/R CMD build --keep-empty-dirs --no-resave-data SpatialExperiment StartedAt: 2024-10-16 23:35:25 -0400 (Wed, 16 Oct 2024) EndedAt: 2024-10-16 23:38:03 -0400 (Wed, 16 Oct 2024) EllapsedTime: 158.1 seconds RetCode: 0 Status: OK PackageFile: SpatialExperiment_1.14.0.tar.gz PackageFileSize: 5.688 MiB