Package: SpatialExperiment Version: 1.14.0 Command: /Library/Frameworks/R.framework/Resources/bin/R CMD build --keep-empty-dirs --no-resave-data SpatialExperiment StartedAt: 2024-06-10 05:17:16 -0400 (Mon, 10 Jun 2024) EndedAt: 2024-06-10 05:19:00 -0400 (Mon, 10 Jun 2024) EllapsedTime: 104.5 seconds RetCode: 0 Status: OK PackageFile: SpatialExperiment_1.14.0.tar.gz PackageFileSize: 5.69 MiB