Package: SpatialExperiment Version: 1.14.0 Command: rm -rf SpatialExperiment.buildbin-libdir && mkdir SpatialExperiment.buildbin-libdir && /Users/biocbuild/BBS/utils/build-universal.sh SpatialExperiment_1.14.0.tar.gz /Library/Frameworks/R.framework/Resources/bin/R SpatialExperiment.buildbin-libdir StartedAt: 2024-06-11 13:21:52 -0400 (Tue, 11 Jun 2024) EndedAt: 2024-06-11 13:22:45 -0400 (Tue, 11 Jun 2024) EllapsedTime: 53.4 seconds RetCode: 0 Status: OK PackageFile: SpatialExperiment_1.14.0.tgz PackageFileSize: 6.004 MiB