Package: SpatialExperiment Version: 1.14.0 Command: /Library/Frameworks/R.framework/Resources/bin/R CMD INSTALL SpatialExperiment StartedAt: 2024-10-16 16:15:08 -0400 (Wed, 16 Oct 2024) EndedAt: 2024-10-16 16:15:38 -0400 (Wed, 16 Oct 2024) EllapsedTime: 30.0 seconds RetCode: 0 Status: OK