Package: SpatialExperiment Version: 1.14.0 Command: /Library/Frameworks/R.framework/Resources/bin/R CMD build --keep-empty-dirs --no-resave-data SpatialExperiment StartedAt: 2024-10-17 09:48:42 -0400 (Thu, 17 Oct 2024) EndedAt: 2024-10-17 09:49:59 -0400 (Thu, 17 Oct 2024) EllapsedTime: 77.8 seconds RetCode: 0 Status: OK PackageFile: SpatialExperiment_1.14.0.tar.gz PackageFileSize: 5.69 MiB