Package: SpatialExperiment Version: 1.14.0 Command: rm -rf SpatialExperiment.buildbin-libdir && mkdir SpatialExperiment.buildbin-libdir && /Users/biocbuild/BBS/utils/build-universal.sh SpatialExperiment_1.14.0.tar.gz /Library/Frameworks/R.framework/Resources/bin/R SpatialExperiment.buildbin-libdir StartedAt: 2024-10-15 20:25:56 -0400 (Tue, 15 Oct 2024) EndedAt: 2024-10-15 20:26:35 -0400 (Tue, 15 Oct 2024) EllapsedTime: 39.5 seconds RetCode: 0 Status: OK PackageFile: SpatialExperiment_1.14.0.tgz PackageFileSize: 5.998 MiB