Package: SpatialExperiment Version: 1.14.0 Maintainer: Dario Righelli MaintainerEmail: dario.righelli at gmail.com git_url: https://git.bioconductor.org/packages/SpatialExperiment git_branch: RELEASE_3_19 git_last_commit: 24e181e git_last_commit_date: 2024-04-30 11:25:35 -0400 (Tue, 30 Apr 2024)