Package: SpatialDecon Version: 1.14.0 Command: /home/biocbuild/bbs-3.19-bioc/R/bin/R CMD INSTALL SpatialDecon StartedAt: 2024-10-16 16:19:29 -0400 (Wed, 16 Oct 2024) EndedAt: 2024-10-16 16:19:52 -0400 (Wed, 16 Oct 2024) EllapsedTime: 23.2 seconds RetCode: 0 Status: OK