Package: SpatialDecon Version: 1.14.0 Command: /home/biocbuild/bbs-3.19-bioc/R/bin/R CMD build --keep-empty-dirs --no-resave-data SpatialDecon StartedAt: 2024-10-16 20:57:00 -0400 (Wed, 16 Oct 2024) EndedAt: 2024-10-16 20:59:20 -0400 (Wed, 16 Oct 2024) EllapsedTime: 140.2 seconds RetCode: 0 Status: OK PackageFile: SpatialDecon_1.14.0.tar.gz PackageFileSize: 4.85 MiB