Package: SpatialDecon Version: 1.14.0 Command: /Library/Frameworks/R.framework/Resources/bin/R CMD build --keep-empty-dirs --no-resave-data SpatialDecon StartedAt: 2024-10-16 23:35:22 -0400 (Wed, 16 Oct 2024) EndedAt: 2024-10-16 23:41:50 -0400 (Wed, 16 Oct 2024) EllapsedTime: 388.6 seconds RetCode: 0 Status: OK PackageFile: SpatialDecon_1.14.0.tar.gz PackageFileSize: 5.276 MiB