Package: SpatialDecon Version: 1.14.0 Command: rm -rf SpatialDecon.buildbin-libdir && mkdir SpatialDecon.buildbin-libdir && /Users/biocbuild/BBS/utils/build-universal.sh SpatialDecon_1.14.0.tar.gz /Library/Frameworks/R.framework/Resources/bin/R SpatialDecon.buildbin-libdir StartedAt: 2024-10-17 17:15:53 -0400 (Thu, 17 Oct 2024) EndedAt: 2024-10-17 17:16:55 -0400 (Thu, 17 Oct 2024) EllapsedTime: 62.0 seconds RetCode: 0 Status: OK PackageFile: SpatialDecon_1.14.0.tgz PackageFileSize: 4.313 MiB