Package: SpatialDecon Version: 1.14.0 Command: rm -rf SpatialDecon.buildbin-libdir && mkdir SpatialDecon.buildbin-libdir && /Users/biocbuild/BBS/utils/build-universal.sh SpatialDecon_1.14.0.tar.gz /Library/Frameworks/R.framework/Resources/bin/R SpatialDecon.buildbin-libdir StartedAt: 2024-06-11 13:21:49 -0400 (Tue, 11 Jun 2024) EndedAt: 2024-06-11 13:22:39 -0400 (Tue, 11 Jun 2024) EllapsedTime: 50.1 seconds RetCode: 0 Status: OK PackageFile: SpatialDecon_1.14.0.tgz PackageFileSize: 4.317 MiB