Package: SpatialCPie Version: 1.20.0 Command: E:\biocbuild\bbs-3.19-bioc\R\bin\R.exe CMD check --no-multiarch --install=check:SpatialCPie.install-out.txt --library=E:\biocbuild\bbs-3.19-bioc\R\library --no-vignettes --timings SpatialCPie_1.20.0.tar.gz StartedAt: 2024-10-17 06:00:33 -0400 (Thu, 17 Oct 2024) EndedAt: 2024-10-17 06:03:42 -0400 (Thu, 17 Oct 2024) EllapsedTime: 189.3 seconds RetCode: 0 Status: OK CheckDir: SpatialCPie.Rcheck Warnings: 0