Package: SpatialCPie Version: 1.20.0 Command: /Library/Frameworks/R.framework/Resources/bin/R CMD INSTALL SpatialCPie StartedAt: 2024-10-16 15:59:17 -0400 (Wed, 16 Oct 2024) EndedAt: 2024-10-16 16:00:11 -0400 (Wed, 16 Oct 2024) EllapsedTime: 53.8 seconds RetCode: 0 Status: OK