Package: SpatialCPie Version: 1.20.0 Command: rm -rf SpatialCPie.buildbin-libdir && mkdir SpatialCPie.buildbin-libdir && /Users/biocbuild/BBS/utils/build-universal.sh SpatialCPie_1.20.0.tar.gz /Library/Frameworks/R.framework/Resources/bin/R SpatialCPie.buildbin-libdir StartedAt: 2024-10-17 17:15:48 -0400 (Thu, 17 Oct 2024) EndedAt: 2024-10-17 17:16:49 -0400 (Thu, 17 Oct 2024) EllapsedTime: 60.6 seconds RetCode: 0 Status: OK PackageFile: SpatialCPie_1.20.0.tgz PackageFileSize: 1.633 MiB