Package: SpatialCPie Version: 1.20.0 Command: /Library/Frameworks/R.framework/Resources/bin/R CMD INSTALL SpatialCPie StartedAt: 2024-10-16 17:16:29 -0400 (Wed, 16 Oct 2024) EndedAt: 2024-10-16 17:16:57 -0400 (Wed, 16 Oct 2024) EllapsedTime: 28.1 seconds RetCode: 0 Status: OK