Package: SpatialCPie Version: 1.20.0 Maintainer: Joseph Bergenstraahle MaintainerEmail: joseph.bergenstrahle at gmail.com git_url: https://git.bioconductor.org/packages/SpatialCPie git_branch: RELEASE_3_19 git_last_commit: e65f0a7 git_last_commit_date: 2024-04-30 11:11:40 -0400 (Tue, 30 Apr 2024)