Package: SparseSignatures Version: 2.14.0 Command: chmod a+r SparseSignatures -R && E:\biocbuild\bbs-3.19-bioc\R\bin\R.exe CMD build --keep-empty-dirs --no-resave-data SparseSignatures StartedAt: 2024-10-16 22:05:32 -0400 (Wed, 16 Oct 2024) EndedAt: 2024-10-16 22:09:38 -0400 (Wed, 16 Oct 2024) EllapsedTime: 245.9 seconds RetCode: 0 Status: OK PackageFile: SparseSignatures_2.14.0.tar.gz PackageFileSize: 1.375 MiB