Package: SparseSignatures Version: 2.14.0 Command: chmod a+r SparseSignatures -R && F:\biocbuild\bbs-3.19-bioc\R\bin\R.exe CMD build --keep-empty-dirs --no-resave-data SparseSignatures StartedAt: 2024-06-26 22:05:40 -0400 (Wed, 26 Jun 2024) EndedAt: 2024-06-26 22:10:09 -0400 (Wed, 26 Jun 2024) EllapsedTime: 269.4 seconds RetCode: 0 Status: OK PackageFile: SparseSignatures_2.14.0.tar.gz PackageFileSize: 1.375 MiB