Package: SparseSignatures Version: 2.14.0 Command: /home/biocbuild/bbs-3.19-bioc/R/bin/R CMD INSTALL SparseSignatures StartedAt: 2024-10-16 16:13:41 -0400 (Wed, 16 Oct 2024) EndedAt: 2024-10-16 16:14:19 -0400 (Wed, 16 Oct 2024) EllapsedTime: 38.1 seconds RetCode: 0 Status: OK