Package: SparseSignatures Version: 2.14.0 Command: /Library/Frameworks/R.framework/Resources/bin/R CMD INSTALL SparseSignatures StartedAt: 2024-10-16 15:49:57 -0400 (Wed, 16 Oct 2024) EndedAt: 2024-10-16 15:51:20 -0400 (Wed, 16 Oct 2024) EllapsedTime: 83.4 seconds RetCode: 0 Status: OK