Package: SparseSignatures Version: 2.14.0 Command: /Library/Frameworks/R.framework/Resources/bin/R CMD INSTALL SparseSignatures StartedAt: 2024-06-09 15:23:42 -0400 (Sun, 09 Jun 2024) EndedAt: 2024-06-09 15:24:32 -0400 (Sun, 09 Jun 2024) EllapsedTime: 49.7 seconds RetCode: 0 Status: OK