Package: SparseSignatures Version: 2.14.0 Command: /Library/Frameworks/R.framework/Resources/bin/R CMD build --keep-empty-dirs --no-resave-data SparseSignatures StartedAt: 2024-06-09 18:16:51 -0400 (Sun, 09 Jun 2024) EndedAt: 2024-06-09 18:21:07 -0400 (Sun, 09 Jun 2024) EllapsedTime: 256.2 seconds RetCode: 0 Status: OK PackageFile: SparseSignatures_2.14.0.tar.gz PackageFileSize: 1.462 MiB