Package: SparseSignatures Version: 2.14.0 Command: /Library/Frameworks/R.framework/Resources/bin/R CMD INSTALL SparseSignatures StartedAt: 2024-10-16 16:58:29 -0400 (Wed, 16 Oct 2024) EndedAt: 2024-10-16 16:59:15 -0400 (Wed, 16 Oct 2024) EllapsedTime: 45.0 seconds RetCode: 0 Status: OK