Package: SparseSignatures Version: 2.14.0 Command: /Library/Frameworks/R.framework/Resources/bin/R CMD build --keep-empty-dirs --no-resave-data SparseSignatures StartedAt: 2024-10-17 09:44:32 -0400 (Thu, 17 Oct 2024) EndedAt: 2024-10-17 09:49:18 -0400 (Thu, 17 Oct 2024) EllapsedTime: 285.7 seconds RetCode: 0 Status: OK PackageFile: SparseSignatures_2.14.0.tar.gz PackageFileSize: 1.462 MiB