Package: SparseArray Version: 1.4.8 Command: E:\biocbuild\bbs-3.19-bioc\R\bin\R.exe CMD check --no-multiarch --install=check:SparseArray.install-out.txt --library=E:\biocbuild\bbs-3.19-bioc\R\library --no-vignettes --timings SparseArray_1.4.8.tar.gz StartedAt: 2024-10-17 05:59:12 -0400 (Thu, 17 Oct 2024) EndedAt: 2024-10-17 06:03:13 -0400 (Thu, 17 Oct 2024) EllapsedTime: 240.8 seconds RetCode: 0 Status: WARNINGS CheckDir: SparseArray.Rcheck Warnings: 1