Package: SparseArray Version: 1.4.8 Command: F:\biocbuild\bbs-3.19-bioc\R\bin\R.exe CMD INSTALL SparseArray StartedAt: 2024-06-26 15:45:28 -0400 (Wed, 26 Jun 2024) EndedAt: 2024-06-26 15:46:21 -0400 (Wed, 26 Jun 2024) EllapsedTime: 53.2 seconds RetCode: 0 Status: OK